BEGIN:VCALENDAR
VERSION:2.0
PRODID:SchoolNow
CALSCALE:GREGORIAN
BEGIN:VEVENT
UID:734727a4-984b-11ee-bf1e-0a58a9feac02
DTSTAMP:20231211T173351Z
SUMMARY:Welcome Back Week Breakfast: LDCC Ruston
URL;VALUE=URI:https://www.ladelta.edu/campuses/ruston/calendar/4993341/welc
 ome-back-week-breakfast-ldcc-ruston
DTSTART:20240108T140000Z
DTEND:20240108T160000Z
END:VEVENT
END:VCALENDAR
