BEGIN:VCALENDAR
VERSION:2.0
PRODID:SchoolNow
CALSCALE:GREGORIAN
BEGIN:VEVENT
UID:9a8fdfb8-984b-11ee-a19a-0e7c5353e3d5
DTSTAMP:20231211T173457Z
SUMMARY:Welcome Back Week Breakfast: LDCC Jonesboro
URL;VALUE=URI:https://www.ladelta.edu/campuses/ruston/calendar/4993343/welc
 ome-back-week-breakfast-ldcc-jonesboro
DTSTART:20240109T140000Z
DTEND:20240109T160000Z
END:VEVENT
END:VCALENDAR
