BEGIN:VCALENDAR
VERSION:2.0
PRODID:SchoolNow
CALSCALE:GREGORIAN
BEGIN:VEVENT
UID:ebcae670-da5e-11ee-bf8b-0e7bdd5546c7
DTSTAMP:20240304T193931Z
SUMMARY:Women's History Month Luncheon
URL;VALUE=URI:https://www.ladelta.edu/campuses/ruston/calendar/5463598/wome
 ns-history-month-luncheon
DTSTART:20240314T160000Z
DTEND:20240314T170000Z
END:VEVENT
END:VCALENDAR
