BEGIN:VCALENDAR
VERSION:2.0
PRODID:SchoolNow
CALSCALE:GREGORIAN
BEGIN:VEVENT
UID:5d372980-f1bc-11ee-b0cb-0a58a9feac02
DTSTAMP:20240403T131621Z
SUMMARY:FAFSA Frenzy Night
URL;VALUE=URI:https://www.ladelta.edu/campuses/ruston/calendar/5698066/fafs
 a-frenzy-night
DTSTART:20240408T213000Z
DTEND:20240408T233000Z
END:VEVENT
END:VCALENDAR
