BEGIN:VCALENDAR
VERSION:2.0
PRODID:SchoolNow
CALSCALE:GREGORIAN
BEGIN:VEVENT
UID:a723d7c2-f2a8-11ee-97d4-0298559d8827
DTSTAMP:20240404T172746Z
SUMMARY:Financial Literacy Workshop with Centric at LDCC Ruston
URL;VALUE=URI:https://www.ladelta.edu/campuses/ruston/calendar/5708041/fina
 ncial-literacy-workshop-with-centric-at-ldcc-ruston
DTSTART:20240415T140000Z
DTEND:20240415T150000Z
END:VEVENT
END:VCALENDAR
