BEGIN:VCALENDAR
VERSION:2.0
PRODID:SchoolNow
CALSCALE:GREGORIAN
BEGIN:VEVENT
UID:facc5456-2293-11ef-98df-0a58a9feac02
DTSTAMP:20240604T170043Z
SUMMARY:Independence Day BBQ
URL;VALUE=URI:https://www.ladelta.edu/campuses/ruston/calendar/6075992/inde
 pendence-day-bbq
DTSTART:20240703T160000Z
DTEND:20240703T170000Z
END:VEVENT
END:VCALENDAR
