BEGIN:VCALENDAR
VERSION:2.0
PRODID:SchoolNow
CALSCALE:GREGORIAN
BEGIN:VEVENT
UID:40a51964-2298-11ef-b87f-0ebf3064dbeb
DTSTAMP:20240606T131529Z
SUMMARY:2ND Year Anniversary of the Ruston Campus!
URL;VALUE=URI:https://www.ladelta.edu/campuses/ruston/calendar/6076004/2nd-
 year-anniversary-of-the-ruston-campus
DTSTART:20240724T160000Z
DTEND:20240724T170000Z
END:VEVENT
END:VCALENDAR
