BEGIN:VCALENDAR
VERSION:2.0
PRODID:SchoolNow
CALSCALE:GREGORIAN
BEGIN:VEVENT
UID:34196706-59aa-11ef-94e2-0a58a9feac02
DTSTAMP:20240813T200417Z
SUMMARY:Mental Health Matters Workshop: Dr. Alberta B. Green
URL;VALUE=URI:https://www.ladelta.edu/campuses/ruston/calendar/6395898/ment
 al-health-matters-workshop-dr-alberta-b-green
DTSTART:20240910T160000Z
DTEND:20240910T170000Z
END:VEVENT
END:VCALENDAR
