BEGIN:VCALENDAR
VERSION:2.0
PRODID:SchoolNow
CALSCALE:GREGORIAN
BEGIN:VEVENT
UID:df7be3f2-9b82-11ef-85de-0a58a9feac02
DTSTAMP:20241105T143306Z
SUMMARY:Veteran's Day Program at LDCC Ruston
URL;VALUE=URI:https://www.ladelta.edu/campuses/ruston/calendar/6964182/vete
 rans-day-program-at-ldcc-ruston
DTSTART:20241111T150000Z
DTEND:20241111T160000Z
END:VEVENT
END:VCALENDAR
