BEGIN:VCALENDAR
VERSION:2.0
PRODID:SchoolNow
CALSCALE:GREGORIAN
BEGIN:VEVENT
UID:376afc9a-a6b6-11ef-abe1-0affe7b1353b
DTSTAMP:20241119T203821Z
SUMMARY:Welcome Back Event: LDCC Ruston
URL;VALUE=URI:https://www.ladelta.edu/campuses/ruston/calendar/7047948/welc
 ome-back-event-ldcc-ruston
DTSTART:20250113T160000Z
DTEND:20250113T180000Z
END:VEVENT
END:VCALENDAR
