BEGIN:VCALENDAR
VERSION:2.0
PRODID:SchoolNow
CALSCALE:GREGORIAN
BEGIN:VEVENT
UID:20a0229c-a8e6-11ef-ac82-0a58a9feac02
DTSTAMP:20241122T152621Z
SUMMARY:LDCC Ruston: Fall Graduate Cap Adornment
URL;VALUE=URI:https://www.ladelta.edu/campuses/ruston/calendar/7062928/ldcc
 -ruston-fall-graduate-cap-adornment
DTSTART:20241203T160000Z
DTEND:20241203T180000Z
END:VEVENT
END:VCALENDAR
