BEGIN:VCALENDAR
VERSION:2.0
PRODID:SchoolNow
CALSCALE:GREGORIAN
BEGIN:VEVENT
UID:7ef45ea4-cde8-11ef-9a57-02c806088377
DTSTAMP:20250108T174631Z
SUMMARY:OER Student Awareness Day: Lunch and Learn at LDCC Ruston!
URL;VALUE=URI:https://www.ladelta.edu/campuses/ruston/calendar/7286729/oer-
 student-awareness-day-lunch-and-learn-at-ldcc-ruston
DTSTART:20250213T170000Z
DTEND:20250213T180000Z
END:VEVENT
END:VCALENDAR
