BEGIN:VCALENDAR
VERSION:2.0
PRODID:SchoolNow
CALSCALE:GREGORIAN
BEGIN:VEVENT
UID:9ffea99a-ce94-11ef-b2cd-02c86fde9095
DTSTAMP:20250109T141840Z
SUMMARY:Mental Health Lunch and Learn: LDCC Ruston
URL;VALUE=URI:https://www.ladelta.edu/campuses/ruston/calendar/7290654/ment
 al-health-lunch-and-learn-ldcc-ruston
DTSTART:20250212T170000Z
DTEND:20250212T180000Z
END:VEVENT
END:VCALENDAR
