BEGIN:VCALENDAR
VERSION:2.0
PRODID:SchoolNow
CALSCALE:GREGORIAN
BEGIN:VEVENT
UID:f9ba79de-d4e6-11ef-bc8b-0a58a9feac02
DTSTAMP:20250117T152316Z
SUMMARY:Black History Month Program 2025: LDCC Ruston
URL;VALUE=URI:https://www.ladelta.edu/campuses/ruston/calendar/7329545/blac
 k-history-month-program-2025-ldcc-ruston
DTSTART:20250220T170000Z
DTEND:20250220T180000Z
END:VEVENT
END:VCALENDAR
