BEGIN:VCALENDAR
VERSION:2.0
PRODID:SchoolNow
CALSCALE:GREGORIAN
BEGIN:VEVENT
UID:827d9b96-d4ee-11ef-ad25-0a58a9feac02
DTSTAMP:20250117T161712Z
SUMMARY:Spring Knightsfest: LDCC Ruston
URL;VALUE=URI:https://www.ladelta.edu/campuses/ruston/calendar/7329649/spri
 ng-knightsfest-ldcc-ruston
DTSTART:20250327T160000Z
DTEND:20250327T170000Z
END:VEVENT
END:VCALENDAR
