BEGIN:VCALENDAR
VERSION:2.0
PRODID:SchoolNow
CALSCALE:GREGORIAN
BEGIN:VEVENT
UID:4ef410b2-ee15-11ef-b176-0a58a9feac02
DTSTAMP:20250218T162755Z
SUMMARY:Campus Director Chats with Patience Talley: LDCC Ruston
URL;VALUE=URI:https://www.ladelta.edu/campuses/ruston/calendar/7493943/camp
 us-director-chats-with-patience-talley-ldcc-ruston
DTSTART:20250320T153000Z
DTEND:20250320T160000Z
END:VEVENT
END:VCALENDAR
