BEGIN:VCALENDAR
VERSION:2.0
PRODID:SchoolNow
CALSCALE:GREGORIAN
BEGIN:VEVENT
UID:20de936a-f9d1-11ef-b327-0a58a9feac02
DTSTAMP:20250305T145006Z
SUMMARY:Women's History Month Panel: LDCC Ruston
URL;VALUE=URI:https://www.ladelta.edu/campuses/ruston/calendar/7608904/wome
 ns-history-month-panel-ldcc-ruston
DTSTART:20250313T160000Z
DTEND:20250313T170000Z
END:VEVENT
END:VCALENDAR
