BEGIN:VCALENDAR
VERSION:2.0
PRODID:SchoolNow
CALSCALE:GREGORIAN
BEGIN:VEVENT
UID:a78a1dd0-10ab-11f0-9691-0a58a9feac02
DTSTAMP:20250403T164948Z
SUMMARY:Community Resource Fair: LDCC Ruston
URL;VALUE=URI:https://www.ladelta.edu/campuses/ruston/calendar/7841461/comm
 unity-resource-fair-ldcc-ruston
DTSTART:20250415T143000Z
DTEND:20250415T160000Z
END:VEVENT
END:VCALENDAR
