BEGIN:VCALENDAR
VERSION:2.0
PRODID:SchoolNow
CALSCALE:GREGORIAN
BEGIN:VEVENT
UID:3ba21896-10ad-11f0-9574-0a58a9feac02
DTSTAMP:20250403T170106Z
SUMMARY:Delta Christian Fellowship Club Kick-Off Meeting: LDCC Ruston
URL;VALUE=URI:https://www.ladelta.edu/campuses/ruston/calendar/7841546/delt
 a-christian-fellowship-club-kick-off-meeting-ldcc-ruston
DTSTART:20250414T160000Z
DTEND:20250414T170000Z
END:VEVENT
END:VCALENDAR
