BEGIN:VCALENDAR
VERSION:2.0
PRODID:SchoolNow
CALSCALE:GREGORIAN
BEGIN:VEVENT
UID:25a1ee02-479b-11f0-9d9e-0e8bf55b29ab
DTSTAMP:20250612T144012Z
SUMMARY:PCT Interest Meeting: LDCC Ruston
URL;VALUE=URI:https://www.ladelta.edu/campuses/ruston/calendar/8292457/pct-
 interest-meeting-ldcc-ruston
DTSTART:20250625T200000Z
DTEND:20250625T210000Z
END:VEVENT
END:VCALENDAR
