BEGIN:VCALENDAR
VERSION:2.0
PRODID:SchoolNow
CALSCALE:GREGORIAN
BEGIN:VEVENT
UID:0f35fe88-5745-11f0-b59a-0a58a9feac02
DTSTAMP:20250702T130416Z
SUMMARY:PN Interest Meeting: LDCC Ruston
URL;VALUE=URI:https://www.ladelta.edu/campuses/ruston/calendar/8377446/pn-i
 nterest-meeting-ldcc-ruston
DTSTART:20250710T200000Z
DTEND:20250710T210000Z
END:VEVENT
END:VCALENDAR
