BEGIN:VCALENDAR
VERSION:2.0
PRODID:SchoolNow
CALSCALE:GREGORIAN
BEGIN:VEVENT
UID:75db1eee-082e-11f1-9e53-0e7efa62387f
DTSTAMP:20260212T161826Z
SUMMARY:LDCC Ruston Women's History Month Panel
URL;VALUE=URI:https://www.ladelta.edu/campuses/ruston/calendar/8854190/ldcc
 -ruston-womens-history-month-panel
DTSTART:20260305T170000Z
DTEND:20260305T180000Z
END:VEVENT
END:VCALENDAR
