BEGIN:VCALENDAR
VERSION:2.0
PRODID:SchoolNow
CALSCALE:GREGORIAN
BEGIN:VEVENT
UID:6ffa3486-13ed-11f1-b359-0a58a9feac02
DTSTAMP:20260227T150313Z
SUMMARY:LDCC Ruston Spring Knightsfest
URL;VALUE=URI:https://www.ladelta.edu/campuses/ruston/calendar/8875745/ldcc
 -ruston-spring-knightsfest
DTSTART:20260324T160000Z
DTEND:20260324T170000Z
END:VEVENT
END:VCALENDAR
