BEGIN:VCALENDAR
VERSION:2.0
PRODID:SchoolNow
CALSCALE:GREGORIAN
BEGIN:VEVENT
UID:a33ea370-1e48-11ed-b1be-0a36f6433c3d
DTSTAMP:20220817T162124Z
SUMMARY:Life Share Blood Drive - Tallulah Campus
LOCATION:132 Old Highway 65 South  Tallulah\, LA  71282
URL;VALUE=URI:https://www.ladelta.edu/campuses/tallulah/calendar/3284960/li
 fe-share-blood-drive-tallulah-campus
DTSTART:20220831T140000Z
DTEND:20220831T200000Z
END:VEVENT
END:VCALENDAR
