BEGIN:VCALENDAR
VERSION:2.0
PRODID:SchoolNow
CALSCALE:GREGORIAN
BEGIN:VEVENT
UID:24d6a33a-63c4-11ee-9702-0a58a9feac02
DTSTAMP:20231005T211417Z
SUMMARY:Volunteer Week: LDCC Tallulah at Council on Aging
URL;VALUE=URI:https://www.ladelta.edu/campuses/tallulah/calendar/4835529/vo
 lunteer-week-ldcc-tallulah-at-council-on-aging
DTSTART:20231012T140000Z
DTEND:20231012T180000Z
END:VEVENT
END:VCALENDAR
