BEGIN:VCALENDAR
VERSION:2.0
PRODID:SchoolNow
CALSCALE:GREGORIAN
BEGIN:VEVENT
UID:3ae1e248-63c4-11ee-8082-0a58a9feac02
DTSTAMP:20231005T211931Z
SUMMARY:Fall Fest!
URL;VALUE=URI:https://www.ladelta.edu/campuses/tallulah/calendar/4835530/fa
 ll-fest
DTSTART:20231031T160000Z
DTEND:20231031T173000Z
END:VEVENT
END:VCALENDAR
