BEGIN:VCALENDAR
VERSION:2.0
PRODID:SchoolNow
CALSCALE:GREGORIAN
BEGIN:VEVENT
UID:6e1e57a4-f127-11ee-afa1-0afffb3422dd
DTSTAMP:20240402T193014Z
SUMMARY:Rock Enroll at LDCC Tallulah
URL;VALUE=URI:https://www.ladelta.edu/campuses/tallulah/calendar/5692103/ro
 ck-enroll-at-ldcc-tallulah
DTSTART:20240410T150000Z
DTEND:20240410T190000Z
END:VEVENT
END:VCALENDAR
