BEGIN:VCALENDAR
VERSION:2.0
PRODID:SchoolNow
CALSCALE:GREGORIAN
BEGIN:VEVENT
UID:0606e9aa-f2a9-11ee-a12a-025ee24b5243
DTSTAMP:20240404T173025Z
SUMMARY:Financial Literacy Workshop by Delta Bank at LDCC Tallulah
URL;VALUE=URI:https://www.ladelta.edu/campuses/tallulah/calendar/5708043/fi
 nancial-literacy-workshop-by-delta-bank-at-ldcc-tallulah
DTSTART:20240410T150000Z
DTEND:20240410T160000Z
END:VEVENT
END:VCALENDAR
