BEGIN:VCALENDAR
VERSION:2.0
PRODID:SchoolNow
CALSCALE:GREGORIAN
BEGIN:VEVENT
UID:25395538-f2a9-11ee-9c03-0a58a9feac02
DTSTAMP:20240404T173118Z
SUMMARY:FAFSA Rally Night at LDCC Tallulah
URL;VALUE=URI:https://www.ladelta.edu/campuses/tallulah/calendar/5708044/fa
 fsa-rally-night-at-ldcc-tallulah
DTSTART:20240410T210000Z
DTEND:20240410T230000Z
END:VEVENT
END:VCALENDAR
