BEGIN:VCALENDAR
VERSION:2.0
PRODID:SchoolNow
CALSCALE:GREGORIAN
BEGIN:VEVENT
UID:3ff81ca8-fc34-11ee-80c9-0e619aed031f
DTSTAMP:20240416T205943Z
SUMMARY:Knightsfest at LDCC Tallulah
URL;VALUE=URI:https://www.ladelta.edu/campuses/tallulah/calendar/5797974/kn
 ightsfest-at-ldcc-tallulah
DTSTART:20240423T160000Z
DTEND:20240423T190000Z
END:VEVENT
END:VCALENDAR
