BEGIN:VCALENDAR
VERSION:2.0
PRODID:SchoolNow
CALSCALE:GREGORIAN
BEGIN:VEVENT
UID:a049e4c4-a8e6-11ef-bd71-0ed85b4e51b7
DTSTAMP:20241122T152955Z
SUMMARY:LDCC Tallulah: Fall Graduate Cap Adornment
URL;VALUE=URI:https://www.ladelta.edu/campuses/tallulah/calendar/7062930/ld
 cc-tallulah-fall-graduate-cap-adornment
DTSTART:20241203T170000Z
DTEND:20241203T190000Z
END:VEVENT
END:VCALENDAR
