BEGIN:VCALENDAR
VERSION:2.0
PRODID:SchoolNow
CALSCALE:GREGORIAN
BEGIN:VEVENT
UID:0ae72e8c-cde9-11ef-9ef1-02baf359db1b
DTSTAMP:20250108T175026Z
SUMMARY:OER Student Awareness Day: Lunch and Learn at LDCC Tallulah!
URL;VALUE=URI:https://www.ladelta.edu/campuses/tallulah/calendar/7286730/oe
 r-student-awareness-day-lunch-and-learn-at-ldcc-tallulah
DTSTART:20250220T180000Z
DTEND:20250220T190000Z
END:VEVENT
END:VCALENDAR
