BEGIN:VCALENDAR
VERSION:2.0
PRODID:SchoolNow
CALSCALE:GREGORIAN
BEGIN:VEVENT
UID:267eb4a6-ce95-11ef-a713-0a58a9feac02
DTSTAMP:20250109T142226Z
SUMMARY:Mental Health Lunch and Learn: LDCC Tallulah
URL;VALUE=URI:https://www.ladelta.edu/campuses/tallulah/calendar/7290655/me
 ntal-health-lunch-and-learn-ldcc-tallulah
DTSTART:20250204T170000Z
DTEND:20250204T180000Z
END:VEVENT
END:VCALENDAR
