BEGIN:VCALENDAR
VERSION:2.0
PRODID:SchoolNow
CALSCALE:GREGORIAN
BEGIN:VEVENT
UID:b920d906-70eb-11ed-b338-0e3e12df6353
DTSTAMP:20221130T201524Z
SUMMARY:Medical Assistant Program - West Monroe Campus
LOCATION:Louisiana Delta Community College - West Monroe Campus
URL;VALUE=URI:https://www.ladelta.edu/campuses/west-monroe/calendar/3630599
 /medical-assistant-program-west-monroe-campus
DTSTART:20221201T120000Z
DTEND:20221201T130000Z
END:VEVENT
END:VCALENDAR
