BEGIN:VCALENDAR
VERSION:2.0
PRODID:SchoolNow
CALSCALE:GREGORIAN
BEGIN:VEVENT
UID:d21bf3f4-cb7c-11ee-8849-02968f7ffbf1
DTSTAMP:20240214T210545Z
SUMMARY:Black History Month Program LDCC West Monroe
URL;VALUE=URI:https://www.ladelta.edu/campuses/west-monroe/calendar/5329361
 /black-history-month-program-ldcc-west-monroe
DTSTART:20240221T173000Z
DTEND:20240221T183000Z
END:VEVENT
END:VCALENDAR
