BEGIN:VCALENDAR
VERSION:2.0
PRODID:SchoolNow
CALSCALE:GREGORIAN
BEGIN:VEVENT
UID:9164eebc-f127-11ee-b553-0afffb3422dd
DTSTAMP:20240402T193114Z
SUMMARY:Rock Enroll at LDCC West Monroe
URL;VALUE=URI:https://www.ladelta.edu/campuses/west-monroe/calendar/5692105
 /rock-enroll-at-ldcc-west-monroe
DTSTART:20240411T140000Z
DTEND:20240411T200000Z
END:VEVENT
END:VCALENDAR
