BEGIN:VCALENDAR
VERSION:2.0
PRODID:SchoolNow
CALSCALE:GREGORIAN
BEGIN:VEVENT
UID:697bee9a-f2a9-11ee-88a8-0a58a9feac02
DTSTAMP:20240404T173312Z
SUMMARY:FAFSA Rally Night at LDCC West Monroe
URL;VALUE=URI:https://www.ladelta.edu/campuses/west-monroe/calendar/5708045
 /fafsa-rally-night-at-ldcc-west-monroe
DTSTART:20240409T213000Z
DTEND:20240409T233000Z
END:VEVENT
END:VCALENDAR
