BEGIN:VCALENDAR
VERSION:2.0
PRODID:SchoolNow
CALSCALE:GREGORIAN
BEGIN:VEVENT
UID:95fc2606-f2a9-11ee-9859-0a58a9feac02
DTSTAMP:20240404T173427Z
SUMMARY:Financial Literacy Workshop by LGML Wealth Management at LDCC West 
 Monroe
URL;VALUE=URI:https://www.ladelta.edu/campuses/west-monroe/calendar/5708046
 /financial-literacy-workshop-by-lgml-wealth-management-at-ldcc-west-monroe
DTSTART:20240411T160000Z
DTEND:20240411T170000Z
END:VEVENT
END:VCALENDAR
