BEGIN:VCALENDAR
VERSION:2.0
PRODID:SchoolNow
CALSCALE:GREGORIAN
BEGIN:VEVENT
UID:628ba396-3877-11ef-8dd8-0affe900a1ff
DTSTAMP:20240702T133127Z
SUMMARY:LDCC West Monroe Orientation: Advising and Registration!
URL;VALUE=URI:https://www.ladelta.edu/campuses/west-monroe/calendar/6199915
 /ldcc-west-monroe-orientation-advising-and-registration
DTSTART:20240722T150000Z
DTEND:20240722T190000Z
END:VEVENT
END:VCALENDAR
