BEGIN:VCALENDAR
VERSION:2.0
PRODID:SchoolNow
CALSCALE:GREGORIAN
BEGIN:VEVENT
UID:b3af82f6-3877-11ef-9752-0a58a9feac02
DTSTAMP:20240702T133343Z
SUMMARY:LDCC West Monroe Orientation: Advising and Registration!
URL;VALUE=URI:https://www.ladelta.edu/campuses/west-monroe/calendar/6199916
 /ldcc-west-monroe-orientation-advising-and-registration
DTSTART:20240725T150000Z
DTEND:20240725T190000Z
END:VEVENT
END:VCALENDAR
