BEGIN:VCALENDAR
VERSION:2.0
PRODID:SchoolNow
CALSCALE:GREGORIAN
BEGIN:VEVENT
UID:ea6ea31c-3877-11ef-85e4-0a58a9feac02
DTSTAMP:20240702T133515Z
SUMMARY:LDCC West Monroe Orientation: Advising and Registration!
URL;VALUE=URI:https://www.ladelta.edu/campuses/west-monroe/calendar/6199917
 /ldcc-west-monroe-orientation-advising-and-registration
DTSTART:20240814T130000Z
DTEND:20240814T203000Z
END:VEVENT
END:VCALENDAR
