BEGIN:VCALENDAR
VERSION:2.0
PRODID:SchoolNow
CALSCALE:GREGORIAN
BEGIN:VEVENT
UID:fbc5d970-922a-11ef-a488-02711b7c638f
DTSTAMP:20241024T171118Z
SUMMARY:Pharmacy Tech Pinning
URL;VALUE=URI:https://www.ladelta.edu/campuses/west-monroe/calendar/6889705
 /pharmacy-tech-pinning
DTSTART:20241214T000000Z
DTEND:20241214T020000Z
END:VEVENT
END:VCALENDAR
