BEGIN:VCALENDAR
VERSION:2.0
PRODID:SchoolNow
CALSCALE:GREGORIAN
BEGIN:VEVENT
UID:73e9b5c2-9b8e-11ef-8f0a-0a58a9feac02
DTSTAMP:20241105T155600Z
SUMMARY:LDCC West Monroe Car Meet
URL;VALUE=URI:https://www.ladelta.edu/campuses/west-monroe/calendar/6964297
 /ldcc-west-monroe-car-meet
DTSTART:20241116T230000Z
DTEND:20241117T023000Z
END:VEVENT
END:VCALENDAR
