BEGIN:VCALENDAR
VERSION:2.0
PRODID:SchoolNow
CALSCALE:GREGORIAN
BEGIN:VEVENT
UID:ba199e42-cd0a-11ef-be24-0a58a9feac02
DTSTAMP:20250107T151902Z
SUMMARY:Practical Nursing Interest Meeting: LDCC West Monroe
URL;VALUE=URI:https://www.ladelta.edu/campuses/west-monroe/calendar/7281302
 /practical-nursing-interest-meeting-ldcc-west-monroe
DTSTART:20250205T000000Z
DTEND:20250205T010000Z
END:VEVENT
END:VCALENDAR
