BEGIN:VCALENDAR
VERSION:2.0
PRODID:SchoolNow
CALSCALE:GREGORIAN
BEGIN:VEVENT
UID:6b945444-cde9-11ef-8964-0e0f8800eb65
DTSTAMP:20250108T175308Z
SUMMARY:OER Student Awareness Day: Lunch and Learn at LDCC West Monroe!
URL;VALUE=URI:https://www.ladelta.edu/campuses/west-monroe/calendar/7286731
 /oer-student-awareness-day-lunch-and-learn-at-ldcc-west-monroe
DTSTART:20250206T180000Z
DTEND:20250206T190000Z
END:VEVENT
END:VCALENDAR
