BEGIN:VCALENDAR
VERSION:2.0
PRODID:SchoolNow
CALSCALE:GREGORIAN
BEGIN:VEVENT
UID:26d85010-cdff-11ef-b3e1-02c86fde9095
DTSTAMP:20250108T202842Z
SUMMARY:Welcome Back Breakfast: LDCC West Monroe
URL;VALUE=URI:https://www.ladelta.edu/campuses/west-monroe/calendar/7288236
 /welcome-back-breakfast-ldcc-west-monroe
DTSTART:20250114T140000Z
DTEND:20250114T150000Z
END:VEVENT
END:VCALENDAR
