BEGIN:VCALENDAR
VERSION:2.0
PRODID:SchoolNow
CALSCALE:GREGORIAN
BEGIN:VEVENT
UID:8337ecf4-ce03-11ef-9ff7-0affd6be7c07
DTSTAMP:20250108T205955Z
SUMMARY:Welcome Back Lunch: LDCC West Monroe
URL;VALUE=URI:https://www.ladelta.edu/campuses/west-monroe/calendar/7288269
 /welcome-back-lunch-ldcc-west-monroe
DTSTART:20250115T170000Z
DTEND:20250115T180000Z
END:VEVENT
END:VCALENDAR
