BEGIN:VCALENDAR
VERSION:2.0
PRODID:SchoolNow
CALSCALE:GREGORIAN
BEGIN:VEVENT
UID:b5e97810-ce95-11ef-bd4c-0a58a9feac02
DTSTAMP:20250109T142626Z
SUMMARY:Mental Health Lunch and Learn: LDCC West Monroe
URL;VALUE=URI:https://www.ladelta.edu/campuses/west-monroe/calendar/7291583
 /mental-health-lunch-and-learn-ldcc-west-monroe
DTSTART:20250204T170000Z
DTEND:20250204T180000Z
END:VEVENT
END:VCALENDAR
