BEGIN:VCALENDAR
VERSION:2.0
PRODID:SchoolNow
CALSCALE:GREGORIAN
BEGIN:VEVENT
UID:1abe698e-ed64-11ef-affa-0affe93c3dbb
DTSTAMP:20250217T191927Z
SUMMARY:Black History Month Program: LDCC West Monroe
URL;VALUE=URI:https://www.ladelta.edu/campuses/west-monroe/calendar/7485892
 /black-history-month-program-ldcc-west-monroe
DTSTART:20250224T170000Z
DTEND:20250224T180000Z
END:VEVENT
END:VCALENDAR
