BEGIN:VCALENDAR
VERSION:2.0
PRODID:SchoolNow
CALSCALE:GREGORIAN
BEGIN:VEVENT
UID:9c3dca84-10a2-11f0-b6d4-02074946ad83
DTSTAMP:20250403T154504Z
SUMMARY:Spring Knightsfest: LDCC West Monroe
URL;VALUE=URI:https://www.ladelta.edu/campuses/west-monroe/calendar/7841451
 /spring-knightsfest-ldcc-west-monroe
DTSTART:20250409T160000Z
DTEND:20250409T190000Z
END:VEVENT
END:VCALENDAR
